BEGIN:VCALENDAR
VERSION:2.0
PRODID:-//Boundary Central Secondary School - ECPv6.15.20//NONSGML v1.0//EN
CALSCALE:GREGORIAN
METHOD:PUBLISH
X-WR-CALNAME:Boundary Central Secondary School
X-ORIGINAL-URL:https://bcss.sd51.bc.ca
X-WR-CALDESC:Events for Boundary Central Secondary School
REFRESH-INTERVAL;VALUE=DURATION:PT1H
X-Robots-Tag:noindex
X-PUBLISHED-TTL:PT1H
BEGIN:VTIMEZONE
TZID:America/Vancouver
BEGIN:DAYLIGHT
TZOFFSETFROM:-0800
TZOFFSETTO:-0700
TZNAME:PDT
DTSTART:20240310T100000
END:DAYLIGHT
BEGIN:STANDARD
TZOFFSETFROM:-0700
TZOFFSETTO:-0800
TZNAME:PST
DTSTART:20241103T090000
END:STANDARD
BEGIN:DAYLIGHT
TZOFFSETFROM:-0800
TZOFFSETTO:-0700
TZNAME:PDT
DTSTART:20250309T100000
END:DAYLIGHT
BEGIN:STANDARD
TZOFFSETFROM:-0700
TZOFFSETTO:-0800
TZNAME:PST
DTSTART:20251102T090000
END:STANDARD
BEGIN:DAYLIGHT
TZOFFSETFROM:-0800
TZOFFSETTO:-0700
TZNAME:PDT
DTSTART:20260308T100000
END:DAYLIGHT
BEGIN:STANDARD
TZOFFSETFROM:-0700
TZOFFSETTO:-0800
TZNAME:PST
DTSTART:20261101T090000
END:STANDARD
END:VTIMEZONE
BEGIN:VEVENT
DTSTART;VALUE=DATE:20250221
DTEND;VALUE=DATE:20250323
DTSTAMP:20260422T191542
CREATED:20250116T225037Z
LAST-MODIFIED:20250116T225037Z
UID:50725-1740096000-1742687999@bcss.sd51.bc.ca
SUMMARY:Jr. Girls/Boys Basketball Tourney - Trail
DESCRIPTION:
URL:https://bcss.sd51.bc.ca/event/jr-girls-boys-basketball-tourney-trail/
END:VEVENT
BEGIN:VEVENT
DTSTART;VALUE=DATE:20250228
DTEND;VALUE=DATE:20250302
DTSTAMP:20260422T191542
CREATED:20250221T222359Z
LAST-MODIFIED:20250221T222359Z
UID:50780-1740700800-1740873599@bcss.sd51.bc.ca
SUMMARY:Jr Boys B-Ball Zone Finals
DESCRIPTION:Jr. Boys B-Ball Zone Finals in Trail
URL:https://bcss.sd51.bc.ca/event/jr-boys-b-ball-zone-finals/
END:VEVENT
BEGIN:VEVENT
DTSTART;VALUE=DATE:20250228
DTEND;VALUE=DATE:20250302
DTSTAMP:20260422T191542
CREATED:20250221T222501Z
LAST-MODIFIED:20250221T222501Z
UID:50781-1740700800-1740873599@bcss.sd51.bc.ca
SUMMARY:Jr. Girls B-Ball Zone Finals
DESCRIPTION:Jr. Girls B-Ball Zone Finals in Castlegar
URL:https://bcss.sd51.bc.ca/event/jr-girls-b-ball-zone-finals/
END:VEVENT
BEGIN:VEVENT
DTSTART;VALUE=DATE:20250228
DTEND;VALUE=DATE:20250302
DTSTAMP:20260422T191542
CREATED:20250221T222632Z
LAST-MODIFIED:20250221T222632Z
UID:50782-1740700800-1740873599@bcss.sd51.bc.ca
SUMMARY:Kiwanis Classical Voice Competition
DESCRIPTION:Kiwanis Classical Voice Competition in Penticton
URL:https://bcss.sd51.bc.ca/event/kiwanis-classical-voice-competition/
END:VEVENT
END:VCALENDAR