BEGIN:VCALENDAR
VERSION:2.0
PRODID:-//Boundary Central Secondary School - ECPv6.15.20//NONSGML v1.0//EN
CALSCALE:GREGORIAN
METHOD:PUBLISH
X-WR-CALNAME:Boundary Central Secondary School
X-ORIGINAL-URL:https://bcss.sd51.bc.ca
X-WR-CALDESC:Events for Boundary Central Secondary School
REFRESH-INTERVAL;VALUE=DURATION:PT1H
X-Robots-Tag:noindex
X-PUBLISHED-TTL:PT1H
BEGIN:VTIMEZONE
TZID:America/Vancouver
BEGIN:DAYLIGHT
TZOFFSETFROM:-0800
TZOFFSETTO:-0700
TZNAME:PDT
DTSTART:20240310T100000
END:DAYLIGHT
BEGIN:STANDARD
TZOFFSETFROM:-0700
TZOFFSETTO:-0800
TZNAME:PST
DTSTART:20241103T090000
END:STANDARD
BEGIN:DAYLIGHT
TZOFFSETFROM:-0800
TZOFFSETTO:-0700
TZNAME:PDT
DTSTART:20250309T100000
END:DAYLIGHT
BEGIN:STANDARD
TZOFFSETFROM:-0700
TZOFFSETTO:-0800
TZNAME:PST
DTSTART:20251102T090000
END:STANDARD
BEGIN:DAYLIGHT
TZOFFSETFROM:-0800
TZOFFSETTO:-0700
TZNAME:PDT
DTSTART:20260308T100000
END:DAYLIGHT
BEGIN:STANDARD
TZOFFSETFROM:-0700
TZOFFSETTO:-0800
TZNAME:PST
DTSTART:20261101T090000
END:STANDARD
END:VTIMEZONE
BEGIN:VEVENT
DTSTART;VALUE=DATE:20250424
DTEND;VALUE=DATE:20250425
DTSTAMP:20260422T201437
CREATED:20250402T174403Z
LAST-MODIFIED:20250402T182019Z
UID:50835-1745452800-1745539199@bcss.sd51.bc.ca
SUMMARY:PAC Fundraiser Deadline
DESCRIPTION:Online ordering is available through https://boundarycentralsecondary.growingsmilesfundraising.com \nOrder deadline is April 24th at 4:00 pm. \nPlant pick-up is at BCSS on May 13th (afternoon)\, May 14th and 15th (8:00 am – 4:00 pm). \nAny questions or for help with ordering please contact Jenn Mallach by email: jennifer.mallach@sd51.bc.ca \nThank you so much for your support!
URL:https://bcss.sd51.bc.ca/event/pac-plant-fundraiser-deadline/
END:VEVENT
BEGIN:VEVENT
DTSTART;VALUE=DATE:20250424
DTEND;VALUE=DATE:20250425
DTSTAMP:20260422T201437
CREATED:20250409T225832Z
LAST-MODIFIED:20250409T225832Z
UID:50857-1745452800-1745539199@bcss.sd51.bc.ca
SUMMARY:Retro Day!!!
DESCRIPTION:Retro Day – sponsored by the Spirit Club
URL:https://bcss.sd51.bc.ca/event/retro-day/
END:VEVENT
BEGIN:VEVENT
DTSTART;VALUE=DATE:20250424
DTEND;VALUE=DATE:20250425
DTSTAMP:20260422T201437
CREATED:20250417T182922Z
LAST-MODIFIED:20250424T182651Z
UID:50873-1745452800-1745539199@bcss.sd51.bc.ca
SUMMARY:Gr.8 Performance of Cinderella Abridged
DESCRIPTION:
URL:https://bcss.sd51.bc.ca/event/gr-8-performance-of-cinderella-abridged/
END:VEVENT
BEGIN:VEVENT
DTSTART;VALUE=DATE:20250424
DTEND;VALUE=DATE:20250425
DTSTAMP:20260422T201437
CREATED:20250417T215538Z
LAST-MODIFIED:20250417T215538Z
UID:50874-1745452800-1745539199@bcss.sd51.bc.ca
SUMMARY:Golf Club Practice
DESCRIPTION:
URL:https://bcss.sd51.bc.ca/event/golf-club-practice/
END:VEVENT
END:VCALENDAR