BEGIN:VCALENDAR
VERSION:2.0
PRODID:-//Boundary Central Secondary School - ECPv6.15.20//NONSGML v1.0//EN
CALSCALE:GREGORIAN
METHOD:PUBLISH
X-WR-CALNAME:Boundary Central Secondary School
X-ORIGINAL-URL:https://bcss.sd51.bc.ca
X-WR-CALDESC:Events for Boundary Central Secondary School
REFRESH-INTERVAL;VALUE=DURATION:PT1H
X-Robots-Tag:noindex
X-PUBLISHED-TTL:PT1H
BEGIN:VTIMEZONE
TZID:America/Vancouver
BEGIN:DAYLIGHT
TZOFFSETFROM:-0800
TZOFFSETTO:-0700
TZNAME:PDT
DTSTART:20240310T100000
END:DAYLIGHT
BEGIN:STANDARD
TZOFFSETFROM:-0700
TZOFFSETTO:-0800
TZNAME:PST
DTSTART:20241103T090000
END:STANDARD
BEGIN:DAYLIGHT
TZOFFSETFROM:-0800
TZOFFSETTO:-0700
TZNAME:PDT
DTSTART:20250309T100000
END:DAYLIGHT
BEGIN:STANDARD
TZOFFSETFROM:-0700
TZOFFSETTO:-0800
TZNAME:PST
DTSTART:20251102T090000
END:STANDARD
BEGIN:DAYLIGHT
TZOFFSETFROM:-0800
TZOFFSETTO:-0700
TZNAME:PDT
DTSTART:20260308T100000
END:DAYLIGHT
BEGIN:STANDARD
TZOFFSETFROM:-0700
TZOFFSETTO:-0800
TZNAME:PST
DTSTART:20261101T090000
END:STANDARD
END:VTIMEZONE
BEGIN:VEVENT
DTSTART;VALUE=DATE:20250425
DTEND;VALUE=DATE:20250426
DTSTAMP:20260422T171954
CREATED:20240829T221750Z
LAST-MODIFIED:20240829T221750Z
UID:50218-1745539200-1745625599@bcss.sd51.bc.ca
SUMMARY:School in Session - Early Dismissal
DESCRIPTION:School in session\, early dismissal @ 2:30pm for Parent Conferences
URL:https://bcss.sd51.bc.ca/event/school-in-session-early-dismissal-2/
END:VEVENT
BEGIN:VEVENT
DTSTART;VALUE=DATE:20250425
DTEND;VALUE=DATE:20250426
DTSTAMP:20260422T171954
CREATED:20240829T221858Z
LAST-MODIFIED:20250417T182552Z
UID:50220-1745539200-1745625599@bcss.sd51.bc.ca
SUMMARY:Parent-Teacher Conferences
DESCRIPTION:We are hosting an Open House for the parent-teacher conferences (+World Cafe) held between 2:30-5:00 pm. No need to book an appointment\, the PAC will be serving chili!!!
URL:https://bcss.sd51.bc.ca/event/parent-conferences-2/
END:VEVENT
BEGIN:VEVENT
DTSTART;VALUE=DATE:20250425
DTEND;VALUE=DATE:20250426
DTSTAMP:20260422T171954
CREATED:20250116T230417Z
LAST-MODIFIED:20250116T230417Z
UID:50729-1745539200-1745625599@bcss.sd51.bc.ca
SUMMARY:Report Cards
DESCRIPTION:Report cards released to Parent Portal.
URL:https://bcss.sd51.bc.ca/event/report-cards-3/
END:VEVENT
BEGIN:VEVENT
DTSTART;VALUE=DATE:20250425
DTEND;VALUE=DATE:20250426
DTSTAMP:20260422T171954
CREATED:20250221T223140Z
LAST-MODIFIED:20250221T223140Z
UID:50785-1745539200-1745625599@bcss.sd51.bc.ca
SUMMARY:Grad Write-Ups Due (Yearbook)
DESCRIPTION:
URL:https://bcss.sd51.bc.ca/event/grad-write-ups-due-yearbook/
END:VEVENT
BEGIN:VEVENT
DTSTART;VALUE=DATE:20250425
DTEND;VALUE=DATE:20250426
DTSTAMP:20260422T171954
CREATED:20250417T182804Z
LAST-MODIFIED:20250417T182804Z
UID:50872-1745539200-1745625599@bcss.sd51.bc.ca
SUMMARY:BC First Nations Youth Forestry Conference
DESCRIPTION:BC First Nations Youth Forestry Conference in Penticton
URL:https://bcss.sd51.bc.ca/event/bc-first-nations-youth-forestry-conference/
END:VEVENT
END:VCALENDAR