BEGIN:VCALENDAR
VERSION:2.0
PRODID:-//Boundary Central Secondary School - ECPv6.15.20//NONSGML v1.0//EN
CALSCALE:GREGORIAN
METHOD:PUBLISH
X-ORIGINAL-URL:https://bcss.sd51.bc.ca
X-WR-CALDESC:Events for Boundary Central Secondary School
REFRESH-INTERVAL;VALUE=DURATION:PT1H
X-Robots-Tag:noindex
X-PUBLISHED-TTL:PT1H
BEGIN:VTIMEZONE
TZID:America/Vancouver
BEGIN:DAYLIGHT
TZOFFSETFROM:-0800
TZOFFSETTO:-0700
TZNAME:PDT
DTSTART:20240310T100000
END:DAYLIGHT
BEGIN:STANDARD
TZOFFSETFROM:-0700
TZOFFSETTO:-0800
TZNAME:PST
DTSTART:20241103T090000
END:STANDARD
BEGIN:DAYLIGHT
TZOFFSETFROM:-0800
TZOFFSETTO:-0700
TZNAME:PDT
DTSTART:20250309T100000
END:DAYLIGHT
BEGIN:STANDARD
TZOFFSETFROM:-0700
TZOFFSETTO:-0800
TZNAME:PST
DTSTART:20251102T090000
END:STANDARD
BEGIN:DAYLIGHT
TZOFFSETFROM:-0800
TZOFFSETTO:-0700
TZNAME:PDT
DTSTART:20260308T100000
END:DAYLIGHT
BEGIN:STANDARD
TZOFFSETFROM:-0700
TZOFFSETTO:-0800
TZNAME:PST
DTSTART:20261101T090000
END:STANDARD
END:VTIMEZONE
BEGIN:VEVENT
DTSTART;VALUE=DATE:20250429
DTEND;VALUE=DATE:20250430
DTSTAMP:20260422T172857
CREATED:20250402T202915Z
LAST-MODIFIED:20250425T234501Z
UID:50847-1745884800-1745971199@bcss.sd51.bc.ca
SUMMARY:Grad Committee Meeting - NEW Date
DESCRIPTION:NEW DATE – Grad Committee Meeting April 29th @ 6pm
URL:https://bcss.sd51.bc.ca/event/grad-committee-meeting/
END:VEVENT
BEGIN:VEVENT
DTSTART;VALUE=DATE:20250429
DTEND;VALUE=DATE:20250430
DTSTAMP:20260422T172857
CREATED:20250331T154524Z
LAST-MODIFIED:20250331T154601Z
UID:50826-1745884800-1745971199@bcss.sd51.bc.ca
SUMMARY:Girls Soccer Team @ GFSS
DESCRIPTION:Girls Soccer AWAY game @ GFSS
URL:https://bcss.sd51.bc.ca/event/girls-soccer-team-gfss/
END:VEVENT
END:VCALENDAR