BEGIN:VCALENDAR
VERSION:2.0
PRODID:-//Boundary Central Secondary School - ECPv6.15.20//NONSGML v1.0//EN
CALSCALE:GREGORIAN
METHOD:PUBLISH
X-ORIGINAL-URL:https://bcss.sd51.bc.ca
X-WR-CALDESC:Events for Boundary Central Secondary School
REFRESH-INTERVAL;VALUE=DURATION:PT1H
X-Robots-Tag:noindex
X-PUBLISHED-TTL:PT1H
BEGIN:VTIMEZONE
TZID:America/Vancouver
BEGIN:DAYLIGHT
TZOFFSETFROM:-0800
TZOFFSETTO:-0700
TZNAME:PDT
DTSTART:20240310T100000
END:DAYLIGHT
BEGIN:STANDARD
TZOFFSETFROM:-0700
TZOFFSETTO:-0800
TZNAME:PST
DTSTART:20241103T090000
END:STANDARD
BEGIN:DAYLIGHT
TZOFFSETFROM:-0800
TZOFFSETTO:-0700
TZNAME:PDT
DTSTART:20250309T100000
END:DAYLIGHT
BEGIN:STANDARD
TZOFFSETFROM:-0700
TZOFFSETTO:-0800
TZNAME:PST
DTSTART:20251102T090000
END:STANDARD
BEGIN:DAYLIGHT
TZOFFSETFROM:-0800
TZOFFSETTO:-0700
TZNAME:PDT
DTSTART:20260308T100000
END:DAYLIGHT
BEGIN:STANDARD
TZOFFSETFROM:-0700
TZOFFSETTO:-0800
TZNAME:PST
DTSTART:20261101T090000
END:STANDARD
END:VTIMEZONE
BEGIN:VEVENT
DTSTART;VALUE=DATE:20250131
DTEND;VALUE=DATE:20250202
DTSTAMP:20260424T042842
CREATED:20250116T222521Z
LAST-MODIFIED:20250116T222521Z
UID:50717-1738281600-1738454399@bcss.sd51.bc.ca
SUMMARY:Gr.8 Boys Basketball Tourney @ GFSS
DESCRIPTION:
URL:https://bcss.sd51.bc.ca/event/gr-8-boys-basketball-tourney-gfss/
END:VEVENT
BEGIN:VEVENT
DTSTART;VALUE=DATE:20250131
DTEND;VALUE=DATE:20250202
DTSTAMP:20260424T042842
CREATED:20250116T222557Z
LAST-MODIFIED:20250116T222557Z
UID:50719-1738281600-1738454399@bcss.sd51.bc.ca
SUMMARY:Grad Trip
DESCRIPTION:
URL:https://bcss.sd51.bc.ca/event/grad-trip/
END:VEVENT
BEGIN:VEVENT
DTSTART;VALUE=DATE:20250203
DTEND;VALUE=DATE:20250204
DTSTAMP:20260424T042842
CREATED:20240829T220406Z
LAST-MODIFIED:20240829T220406Z
UID:50204-1738540800-1738627199@bcss.sd51.bc.ca
SUMMARY:Semester 2 Begins
DESCRIPTION:First day of Semester 2.
URL:https://bcss.sd51.bc.ca/event/semester-2-begins/
END:VEVENT
BEGIN:VEVENT
DTSTART;VALUE=DATE:20250206
DTEND;VALUE=DATE:20250207
DTSTAMP:20260424T042842
CREATED:20241125T174918Z
LAST-MODIFIED:20241125T174918Z
UID:50588-1738800000-1738886399@bcss.sd51.bc.ca
SUMMARY:Report Cards
DESCRIPTION:Report cards released to parent portal.
URL:https://bcss.sd51.bc.ca/event/report-cards-2/
END:VEVENT
BEGIN:VEVENT
DTSTART;VALUE=DATE:20250207
DTEND;VALUE=DATE:20250209
DTSTAMP:20260424T042842
CREATED:20250116T222757Z
LAST-MODIFIED:20250116T222757Z
UID:50721-1738886400-1739059199@bcss.sd51.bc.ca
SUMMARY:Jr. Girls & Jr. Boys Basketball Tourney @ GFSS
DESCRIPTION:
URL:https://bcss.sd51.bc.ca/event/jr-girls-jr-boys-basketball-tourney-gfss/
END:VEVENT
BEGIN:VEVENT
DTSTART;VALUE=DATE:20250208
DTEND;VALUE=DATE:20250209
DTSTAMP:20260424T042842
CREATED:20250121T174209Z
LAST-MODIFIED:20250121T174209Z
UID:50755-1738972800-1739059199@bcss.sd51.bc.ca
SUMMARY:Grads vs Dads
DESCRIPTION:Grads vs Dads hockey game at the Midway arena on Feb. 8th. Doors open at 5:30 pm and game is from 6:00-8:00 pm.
URL:https://bcss.sd51.bc.ca/event/grads-vs-dads/
END:VEVENT
BEGIN:VEVENT
DTSTART;VALUE=DATE:20250210
DTEND;VALUE=DATE:20250211
DTSTAMP:20260424T042842
CREATED:20250107T224410Z
LAST-MODIFIED:20250115T233543Z
UID:50672-1739145600-1739231999@bcss.sd51.bc.ca
SUMMARY:Grad Photos
DESCRIPTION:Book your appointment @ Schedule.prestigeportraits.ca
URL:https://bcss.sd51.bc.ca/event/grad-photos-2/
END:VEVENT
BEGIN:VEVENT
DTSTART;TZID=America/Vancouver:20250217T080000
DTEND;TZID=America/Vancouver:20250217T170000
DTSTAMP:20260424T042842
CREATED:20240829T220605Z
LAST-MODIFIED:20240829T220605Z
UID:50206-1739779200-1739811600@bcss.sd51.bc.ca
SUMMARY:Family Day - No School
DESCRIPTION:School not in session for Family Day.
URL:https://bcss.sd51.bc.ca/event/family-day-no-school-2/
END:VEVENT
BEGIN:VEVENT
DTSTART;VALUE=DATE:20250218
DTEND;VALUE=DATE:20250219
DTSTAMP:20260424T042842
CREATED:20250116T224736Z
LAST-MODIFIED:20250116T224856Z
UID:50723-1739836800-1739923199@bcss.sd51.bc.ca
SUMMARY:BCSS vs GFSS Basketball Home Game
DESCRIPTION:BCSS vs GFSS Home Game – Gr.8’s & Jr.’s Girls/Boys
URL:https://bcss.sd51.bc.ca/event/bcss-vs-gfss-basketball-home-game/
END:VEVENT
BEGIN:VEVENT
DTSTART;VALUE=DATE:20250221
DTEND;VALUE=DATE:20250222
DTSTAMP:20260424T042842
CREATED:20240829T221046Z
LAST-MODIFIED:20240829T221046Z
UID:50208-1740096000-1740182399@bcss.sd51.bc.ca
SUMMARY:School in Session
DESCRIPTION:School in session\, wear your spirit wear!!!
URL:https://bcss.sd51.bc.ca/event/school-in-session-5/
END:VEVENT
BEGIN:VEVENT
DTSTART;VALUE=DATE:20250221
DTEND;VALUE=DATE:20250323
DTSTAMP:20260424T042842
CREATED:20250116T225037Z
LAST-MODIFIED:20250116T225037Z
UID:50725-1740096000-1742687999@bcss.sd51.bc.ca
SUMMARY:Jr. Girls/Boys Basketball Tourney - Trail
DESCRIPTION:
URL:https://bcss.sd51.bc.ca/event/jr-girls-boys-basketball-tourney-trail/
END:VEVENT
BEGIN:VEVENT
DTSTART;VALUE=DATE:20250226
DTEND;VALUE=DATE:20250227
DTSTAMP:20260424T042842
CREATED:20250221T222128Z
LAST-MODIFIED:20250221T222148Z
UID:50778-1740528000-1740614399@bcss.sd51.bc.ca
SUMMARY:Pink Shirt Day
DESCRIPTION:
URL:https://bcss.sd51.bc.ca/event/pink-shirt-day/
END:VEVENT
BEGIN:VEVENT
DTSTART;VALUE=DATE:20250226
DTEND;VALUE=DATE:20250227
DTSTAMP:20260424T042842
CREATED:20250120T223424Z
LAST-MODIFIED:20250120T223424Z
UID:50752-1740528000-1740614399@bcss.sd51.bc.ca
SUMMARY:Grad Meeting
DESCRIPTION:Grad Meeting at 5:00 pm
URL:https://bcss.sd51.bc.ca/event/grad-meeting-6/
END:VEVENT
BEGIN:VEVENT
DTSTART;VALUE=DATE:20250227
DTEND;VALUE=DATE:20250228
DTSTAMP:20260424T042842
CREATED:20241125T175028Z
LAST-MODIFIED:20241125T175028Z
UID:50590-1740614400-1740700799@bcss.sd51.bc.ca
SUMMARY:Ski Trip - Baldy Mountain
DESCRIPTION:
URL:https://bcss.sd51.bc.ca/event/ski-trip-baldy-mountain/
END:VEVENT
BEGIN:VEVENT
DTSTART;VALUE=DATE:20250228
DTEND;VALUE=DATE:20250302
DTSTAMP:20260424T042842
CREATED:20250221T222359Z
LAST-MODIFIED:20250221T222359Z
UID:50780-1740700800-1740873599@bcss.sd51.bc.ca
SUMMARY:Jr Boys B-Ball Zone Finals
DESCRIPTION:Jr. Boys B-Ball Zone Finals in Trail
URL:https://bcss.sd51.bc.ca/event/jr-boys-b-ball-zone-finals/
END:VEVENT
BEGIN:VEVENT
DTSTART;VALUE=DATE:20250228
DTEND;VALUE=DATE:20250302
DTSTAMP:20260424T042842
CREATED:20250221T222501Z
LAST-MODIFIED:20250221T222501Z
UID:50781-1740700800-1740873599@bcss.sd51.bc.ca
SUMMARY:Jr. Girls B-Ball Zone Finals
DESCRIPTION:Jr. Girls B-Ball Zone Finals in Castlegar
URL:https://bcss.sd51.bc.ca/event/jr-girls-b-ball-zone-finals/
END:VEVENT
BEGIN:VEVENT
DTSTART;VALUE=DATE:20250228
DTEND;VALUE=DATE:20250302
DTSTAMP:20260424T042842
CREATED:20250221T222632Z
LAST-MODIFIED:20250221T222632Z
UID:50782-1740700800-1740873599@bcss.sd51.bc.ca
SUMMARY:Kiwanis Classical Voice Competition
DESCRIPTION:Kiwanis Classical Voice Competition in Penticton
URL:https://bcss.sd51.bc.ca/event/kiwanis-classical-voice-competition/
END:VEVENT
END:VCALENDAR