BEGIN:VCALENDAR
VERSION:2.0
PRODID:-//Boundary Central Secondary School - ECPv6.15.20//NONSGML v1.0//EN
CALSCALE:GREGORIAN
METHOD:PUBLISH
X-ORIGINAL-URL:https://bcss.sd51.bc.ca
X-WR-CALDESC:Events for Boundary Central Secondary School
REFRESH-INTERVAL;VALUE=DURATION:PT1H
X-Robots-Tag:noindex
X-PUBLISHED-TTL:PT1H
BEGIN:VTIMEZONE
TZID:America/Vancouver
BEGIN:DAYLIGHT
TZOFFSETFROM:-0800
TZOFFSETTO:-0700
TZNAME:PDT
DTSTART:20240310T100000
END:DAYLIGHT
BEGIN:STANDARD
TZOFFSETFROM:-0700
TZOFFSETTO:-0800
TZNAME:PST
DTSTART:20241103T090000
END:STANDARD
BEGIN:DAYLIGHT
TZOFFSETFROM:-0800
TZOFFSETTO:-0700
TZNAME:PDT
DTSTART:20250309T100000
END:DAYLIGHT
BEGIN:STANDARD
TZOFFSETFROM:-0700
TZOFFSETTO:-0800
TZNAME:PST
DTSTART:20251102T090000
END:STANDARD
BEGIN:DAYLIGHT
TZOFFSETFROM:-0800
TZOFFSETTO:-0700
TZNAME:PDT
DTSTART:20260308T100000
END:DAYLIGHT
BEGIN:STANDARD
TZOFFSETFROM:-0700
TZOFFSETTO:-0800
TZNAME:PST
DTSTART:20261101T090000
END:STANDARD
END:VTIMEZONE
BEGIN:VEVENT
DTSTART;VALUE=DATE:20250604
DTEND;VALUE=DATE:20250605
DTSTAMP:20260419T135812
CREATED:20250424T184717Z
LAST-MODIFIED:20250424T184717Z
UID:50893-1748995200-1749081599@bcss.sd51.bc.ca
SUMMARY:Into the Woods - Rehearsal
DESCRIPTION:Into the Woods – Rehearsal Day!!!
URL:https://bcss.sd51.bc.ca/event/into-the-woods-rehearsal/
END:VEVENT
BEGIN:VEVENT
DTSTART;TZID=America/Vancouver:20250605T080000
DTEND;TZID=America/Vancouver:20250605T170000
DTSTAMP:20260419T135812
CREATED:20250424T184353Z
LAST-MODIFIED:20250522T221505Z
UID:50891-1749110400-1749142800@bcss.sd51.bc.ca
SUMMARY:Into the Woods
DESCRIPTION:BCSS Junior Musical Theatre class presents…Into the Woods \n7:00 pm show in the BCSS Theatre \nTickets $10 in advance (available through the office)
URL:https://bcss.sd51.bc.ca/event/into-the-woods/
END:VEVENT
BEGIN:VEVENT
DTSTART;VALUE=DATE:20250607
DTEND;VALUE=DATE:20250608
DTSTAMP:20260419T135812
CREATED:20250424T184610Z
LAST-MODIFIED:20250522T221542Z
UID:50892-1749254400-1749340799@bcss.sd51.bc.ca
SUMMARY:Into the Woods
DESCRIPTION:BCSS Junior Musical Theatre class presents…Into the Woods \n2:00 pm Matinee and 7:00 pm shows in the BCSS Theatre \nTickets $10 (in advance) through the office
URL:https://bcss.sd51.bc.ca/event/into-the-woods-2/
END:VEVENT
BEGIN:VEVENT
DTSTART;VALUE=DATE:20250609
DTEND;VALUE=DATE:20250610
DTSTAMP:20260419T135812
CREATED:20250505T175120Z
LAST-MODIFIED:20250505T175120Z
UID:50915-1749427200-1749513599@bcss.sd51.bc.ca
SUMMARY:PAC AGM
DESCRIPTION:PAC Annual General Meeting @ 5:00 pm
URL:https://bcss.sd51.bc.ca/event/pac-agm/
END:VEVENT
BEGIN:VEVENT
DTSTART;TZID=America/Vancouver:20250609T083000
DTEND;TZID=America/Vancouver:20250609T123000
DTSTAMP:20260419T135812
CREATED:20250507T175459Z
LAST-MODIFIED:20250507T175459Z
UID:50920-1749457800-1749472200@bcss.sd51.bc.ca
SUMMARY:Numeracy 10 Assessments
DESCRIPTION:
URL:https://bcss.sd51.bc.ca/event/numeracy-10-assessments/
END:VEVENT
BEGIN:VEVENT
DTSTART;VALUE=DATE:20250610
DTEND;VALUE=DATE:20250611
DTSTAMP:20260419T135812
CREATED:20250605T200055Z
LAST-MODIFIED:20250605T200055Z
UID:50949-1749513600-1749599999@bcss.sd51.bc.ca
SUMMARY:Grade 8's Bake Sale
DESCRIPTION:Grade 8’s are doing a bake sale to raise money for their year-end field trip to Pines Camp.
URL:https://bcss.sd51.bc.ca/event/grade-8s-bake-sale/
END:VEVENT
BEGIN:VEVENT
DTSTART;VALUE=DATE:20250611
DTEND;VALUE=DATE:20250612
DTSTAMP:20260419T135812
CREATED:20250331T154217Z
LAST-MODIFIED:20250331T154323Z
UID:50825-1749600000-1749686399@bcss.sd51.bc.ca
SUMMARY:ICBC Road Safety
DESCRIPTION:ICBC Road Safety – Guest Speaker\, Kevin Brooks for the grade 10-12 students.
URL:https://bcss.sd51.bc.ca/event/icbc-road-safety/
END:VEVENT
BEGIN:VEVENT
DTSTART;TZID=America/Vancouver:20250611T113000
DTEND;TZID=America/Vancouver:20250611T130000
DTSTAMP:20260419T135812
CREATED:20250304T194443Z
LAST-MODIFIED:20250304T194443Z
UID:50806-1749641400-1749646800@bcss.sd51.bc.ca
SUMMARY:Indigenous Grad Luncheon
DESCRIPTION:
URL:https://bcss.sd51.bc.ca/event/indigenous-grad-luncheon-2/
END:VEVENT
BEGIN:VEVENT
DTSTART;VALUE=DATE:20250612
DTEND;VALUE=DATE:20250613
DTSTAMP:20260419T135812
CREATED:20250416T175736Z
LAST-MODIFIED:20250416T175736Z
UID:50866-1749686400-1749772799@bcss.sd51.bc.ca
SUMMARY:Spring Run Off
DESCRIPTION:Annual Spring Run Off
URL:https://bcss.sd51.bc.ca/event/spring-run-off/
END:VEVENT
BEGIN:VEVENT
DTSTART;VALUE=DATE:20250612
DTEND;VALUE=DATE:20250613
DTSTAMP:20260419T135812
CREATED:20250429T204946Z
LAST-MODIFIED:20250429T204946Z
UID:50908-1749686400-1749772799@bcss.sd51.bc.ca
SUMMARY:Grade 7 Transition Day
DESCRIPTION:
URL:https://bcss.sd51.bc.ca/event/grade-7-transition-day/
END:VEVENT
BEGIN:VEVENT
DTSTART;TZID=America/Vancouver:20250612T083000
DTEND;TZID=America/Vancouver:20250612T123000
DTSTAMP:20260419T135812
CREATED:20250507T175551Z
LAST-MODIFIED:20250605T195746Z
UID:50921-1749717000-1749731400@bcss.sd51.bc.ca
SUMMARY:Literacy 10 Assessments
DESCRIPTION:
URL:https://bcss.sd51.bc.ca/event/literacy-10-assessments/
END:VEVENT
BEGIN:VEVENT
DTSTART;VALUE=DATE:20250614
DTEND;VALUE=DATE:20250615
DTSTAMP:20260419T135812
CREATED:20250218T205241Z
LAST-MODIFIED:20250218T205258Z
UID:50768-1749859200-1749945599@bcss.sd51.bc.ca
SUMMARY:2025 Graduation Ceremony
DESCRIPTION:2025 Graduation Ceremony will be held in the BCSS gymnasium at 11:00 am.
URL:https://bcss.sd51.bc.ca/event/graduation-ceremony/
END:VEVENT
BEGIN:VEVENT
DTSTART;VALUE=DATE:20250616
DTEND;VALUE=DATE:20250617
DTSTAMP:20260419T135812
CREATED:20250424T185221Z
LAST-MODIFIED:20250515T182506Z
UID:50895-1750032000-1750118399@bcss.sd51.bc.ca
SUMMARY:BCSS Indigenous Peoples Day
DESCRIPTION:BCSS celebrates National Indigenous Peoples Day (June 21st)
URL:https://bcss.sd51.bc.ca/event/bcss-indigenous-day/
END:VEVENT
BEGIN:VEVENT
DTSTART;VALUE=DATE:20250617
DTEND;VALUE=DATE:20250618
DTSTAMP:20260419T135812
CREATED:20250331T155250Z
LAST-MODIFIED:20250331T155250Z
UID:50828-1750118400-1750204799@bcss.sd51.bc.ca
SUMMARY:Grade 8's Year End Field Trip
DESCRIPTION:Grade 8’s Year End Field Trip to Pines
URL:https://bcss.sd51.bc.ca/event/grade-8s-year-end-field-trip/
END:VEVENT
BEGIN:VEVENT
DTSTART;VALUE=DATE:20250617
DTEND;VALUE=DATE:20250618
DTSTAMP:20260419T135812
CREATED:20250424T185034Z
LAST-MODIFIED:20250424T185034Z
UID:50894-1750118400-1750204799@bcss.sd51.bc.ca
SUMMARY:SS 11 Field Trip to DRAO
DESCRIPTION:SS 11 Field Trip to Dominion Radio Astrophysical Observatory
URL:https://bcss.sd51.bc.ca/event/ss-11-field-trip-to-drao/
END:VEVENT
BEGIN:VEVENT
DTSTART;VALUE=DATE:20250623
DTEND;VALUE=DATE:20250624
DTSTAMP:20260419T135812
CREATED:20250529T152033Z
LAST-MODIFIED:20250529T153709Z
UID:50940-1750636800-1750723199@bcss.sd51.bc.ca
SUMMARY:Awards Day
DESCRIPTION:Awards assembly will be held at 2:00 pm in the BCSS gymnasium.
URL:https://bcss.sd51.bc.ca/event/awards-day-2/
END:VEVENT
BEGIN:VEVENT
DTSTART;VALUE=DATE:20250624
DTEND;VALUE=DATE:20250625
DTSTAMP:20260419T135812
CREATED:20250529T152829Z
LAST-MODIFIED:20250529T152829Z
UID:50941-1750723200-1750809599@bcss.sd51.bc.ca
SUMMARY:Locker Cleanout
DESCRIPTION:Locker cleanout day. Don’t forget to check the lost and found too!
URL:https://bcss.sd51.bc.ca/event/locker-cleanout/
END:VEVENT
BEGIN:VEVENT
DTSTART;VALUE=DATE:20250625
DTEND;VALUE=DATE:20250626
DTSTAMP:20260419T135812
CREATED:20250116T230852Z
LAST-MODIFIED:20250116T230852Z
UID:50733-1750809600-1750895999@bcss.sd51.bc.ca
SUMMARY:Insufficient Evidence Day
DESCRIPTION:Insufficient Evidence Day (aka Make Up Day)
URL:https://bcss.sd51.bc.ca/event/insufficient-evidence-day-3/
END:VEVENT
BEGIN:VEVENT
DTSTART;VALUE=DATE:20250626
DTEND;VALUE=DATE:20250627
DTSTAMP:20260419T135812
CREATED:20240829T222430Z
LAST-MODIFIED:20240829T222430Z
UID:50226-1750896000-1750982399@bcss.sd51.bc.ca
SUMMARY:Last Day School in Session
DESCRIPTION:Last day school in session. Enjoy your summer!!!!
URL:https://bcss.sd51.bc.ca/event/last-day-school-in-session/
END:VEVENT
BEGIN:VEVENT
DTSTART;VALUE=DATE:20250626
DTEND;VALUE=DATE:20250627
DTSTAMP:20260419T135812
CREATED:20250116T230540Z
LAST-MODIFIED:20250116T230540Z
UID:50731-1750896000-1750982399@bcss.sd51.bc.ca
SUMMARY:Semester 2 Ends
DESCRIPTION:
URL:https://bcss.sd51.bc.ca/event/semester-2-ends/
END:VEVENT
BEGIN:VEVENT
DTSTART;VALUE=DATE:20250627
DTEND;VALUE=DATE:20250628
DTSTAMP:20260419T135812
CREATED:20240829T222523Z
LAST-MODIFIED:20240829T222523Z
UID:50228-1750982400-1751068799@bcss.sd51.bc.ca
SUMMARY:Administrative Day - School Closed
DESCRIPTION:
URL:https://bcss.sd51.bc.ca/event/administrative-day-school-closed/
END:VEVENT
BEGIN:VEVENT
DTSTART;VALUE=DATE:20250627
DTEND;VALUE=DATE:20250628
DTSTAMP:20260419T135812
CREATED:20250424T185335Z
LAST-MODIFIED:20250424T185335Z
UID:50896-1750982400-1751068799@bcss.sd51.bc.ca
SUMMARY:Report Cards
DESCRIPTION:
URL:https://bcss.sd51.bc.ca/event/report-cards-4/
END:VEVENT
END:VCALENDAR